BEGIN:VCALENDAR
VERSION:2.0
PRODID:-//North Star Rotary Youth Exchange - ECPv6.15.20//NONSGML v1.0//EN
CALSCALE:GREGORIAN
METHOD:PUBLISH
X-WR-CALNAME:North Star Rotary Youth Exchange
X-ORIGINAL-URL:https://northstarrotary.com
X-WR-CALDESC:Events for North Star Rotary Youth Exchange
REFRESH-INTERVAL;VALUE=DURATION:PT1H
X-Robots-Tag:noindex
X-PUBLISHED-TTL:PT1H
BEGIN:VTIMEZONE
TZID:America/Chicago
BEGIN:DAYLIGHT
TZOFFSETFROM:-0600
TZOFFSETTO:-0500
TZNAME:CDT
DTSTART:20240310T080000
END:DAYLIGHT
BEGIN:STANDARD
TZOFFSETFROM:-0500
TZOFFSETTO:-0600
TZNAME:CST
DTSTART:20241103T070000
END:STANDARD
BEGIN:DAYLIGHT
TZOFFSETFROM:-0600
TZOFFSETTO:-0500
TZNAME:CDT
DTSTART:20250309T080000
END:DAYLIGHT
BEGIN:STANDARD
TZOFFSETFROM:-0500
TZOFFSETTO:-0600
TZNAME:CST
DTSTART:20251102T070000
END:STANDARD
BEGIN:DAYLIGHT
TZOFFSETFROM:-0600
TZOFFSETTO:-0500
TZNAME:CDT
DTSTART:20260308T080000
END:DAYLIGHT
BEGIN:STANDARD
TZOFFSETFROM:-0500
TZOFFSETTO:-0600
TZNAME:CST
DTSTART:20261101T070000
END:STANDARD
BEGIN:DAYLIGHT
TZOFFSETFROM:-0600
TZOFFSETTO:-0500
TZNAME:CDT
DTSTART:20270314T080000
END:DAYLIGHT
BEGIN:STANDARD
TZOFFSETFROM:-0500
TZOFFSETTO:-0600
TZNAME:CST
DTSTART:20271107T070000
END:STANDARD
END:VTIMEZONE
BEGIN:VEVENT
DTSTART;VALUE=DATE:20250913
DTEND;VALUE=DATE:20250914
DTSTAMP:20260422T174217
CREATED:20250723T173353Z
LAST-MODIFIED:20250723T173353Z
UID:2996-1757721600-1757807999@northstarrotary.com
SUMMARY:District 5950 Conference
DESCRIPTION:After overnight event for Inbound Orientation\, Inbounds will attend the District 5950 Conference at Valley Fair on Saturday\, Sept. 13th.
URL:https://northstarrotary.com/event/district-5950-conference/
CATEGORIES:Board Members,Everyone!,Inbounds,Leadership Team
END:VEVENT
BEGIN:VEVENT
DTSTART;VALUE=DATE:20251025
DTEND;VALUE=DATE:20251026
DTSTAMP:20260422T174217
CREATED:20250723T173617Z
LAST-MODIFIED:20250723T173617Z
UID:3000-1761350400-1761436799@northstarrotary.com
SUMMARY:Fall Festival
DESCRIPTION:Inbounds Students attend the Fall Festival.  RSVP will be sent in email.
URL:https://northstarrotary.com/event/fall-festival/
CATEGORIES:Board Members,Everyone!,Inbounds,Leadership Team
END:VEVENT
BEGIN:VEVENT
DTSTART;TZID=America/Chicago:20251029T190000
DTEND;TZID=America/Chicago:20251029T200000
DTSTAMP:20260422T174217
CREATED:20251015T222841Z
LAST-MODIFIED:20251015T222841Z
UID:3202-1761764400-1761768000@northstarrotary.com
SUMMARY:Virtual Informational Webinar!
DESCRIPTION:The North Star Rotex Team is hosting 2 Virtual Informational Webinars for potential applicants\, current applicants and their families.  (Rotex are alumni of this program\, past exchange students).  During these webinars\, Rotex will share their experiences abroad\, and provide a quick overview of the program\, application process\, and what makes this a truly life-changing opportunity to explore another culture and language.  CLICK HERE to RSVP and receive the zoom link
URL:https://northstarrotary.com/event/virtual-informational-webinar/
LOCATION:Zoom
CATEGORIES:Everyone!
END:VEVENT
BEGIN:VEVENT
DTSTART;TZID=America/Chicago:20251102T190000
DTEND;TZID=America/Chicago:20251102T200000
DTSTAMP:20260422T174217
CREATED:20251015T222931Z
LAST-MODIFIED:20251015T222931Z
UID:3204-1762110000-1762113600@northstarrotary.com
SUMMARY:Virtual Informational Webinar!
DESCRIPTION:The North Star Rotex Team is hosting 2 Virtual Informational Webinars for potential applicants\, current applicants and their families.  (Rotex are alumni of this program\, past exchange students).  During these webinars\, Rotex will share their experiences abroad\, and provide a quick overview of the program\, application process\, and what makes this a truly life-changing opportunity to explore another culture and language.  CLICK HERE to RSVP and receive the zoom link
URL:https://northstarrotary.com/event/virtual-informational-webinar-2/
LOCATION:Zoom
CATEGORIES:Everyone!
END:VEVENT
BEGIN:VEVENT
DTSTART;VALUE=DATE:20251115
DTEND;VALUE=DATE:20251116
DTSTAMP:20260422T174217
CREATED:20250723T173855Z
LAST-MODIFIED:20250723T173855Z
UID:3006-1763164800-1763251199@northstarrotary.com
SUMMARY:Long-Term Application Deadline!!
DESCRIPTION:Application deadline for long-term exchanges for the 2026-2027 exchange year
URL:https://northstarrotary.com/event/long-term-application-deadline-2/
CATEGORIES:Board Members,Everyone!,Leadership Team,Outbounds
END:VEVENT
BEGIN:VEVENT
DTSTART;VALUE=DATE:20251206
DTEND;VALUE=DATE:20251207
DTSTAMP:20260422T174217
CREATED:20250723T174229Z
LAST-MODIFIED:20250723T174229Z
UID:3010-1764979200-1765065599@northstarrotary.com
SUMMARY:District Interviews
DESCRIPTION:Interviews for long-term applicants for the 2026-2027 exchange year.  Interviews for short-term summer exchanges for summer of 2026.
URL:https://northstarrotary.com/event/district-interviews/
CATEGORIES:Board Members,Everyone!,Leadership Team,Outbounds
END:VEVENT
BEGIN:VEVENT
DTSTART;VALUE=DATE:20251206
DTEND;VALUE=DATE:20251207
DTSTAMP:20260422T174217
CREATED:20250723T174405Z
LAST-MODIFIED:20250723T174405Z
UID:3012-1764979200-1765065599@northstarrotary.com
SUMMARY:Country Fair
DESCRIPTION:Country Fair happens during Outbound Interview.   Inbound Students share information about their home countries with Outbound Applicants and their families.
URL:https://northstarrotary.com/event/country-fair-2/
CATEGORIES:Board Members,Everyone!,Inbounds,Leadership Team,Outbounds
END:VEVENT
BEGIN:VEVENT
DTSTART;VALUE=DATE:20251206
DTEND;VALUE=DATE:20251207
DTSTAMP:20260422T174217
CREATED:20251028T151831Z
LAST-MODIFIED:20251028T151831Z
UID:3217-1764979200-1765065599@northstarrotary.com
SUMMARY:Short Term Application Deadline for Priority Placement
DESCRIPTION:Additional applications will be accepted until March 1\, 2026
URL:https://northstarrotary.com/event/short-term-application-deadline-for-priority-placement-2/
CATEGORIES:Board Members,Everyone!,Leadership Team,Outbounds
END:VEVENT
BEGIN:VEVENT
DTSTART;VALUE=DATE:20251222
DTEND;VALUE=DATE:20251230
DTSTAMP:20260422T174217
CREATED:20250723T174814Z
LAST-MODIFIED:20250723T174814Z
UID:3018-1766361600-1767052799@northstarrotary.com
SUMMARY:Outbound Applicants receive interview results
DESCRIPTION:Results will be mailed (snail-mail) to Outbound Applicants this week for long-term exchanges 2026-2027
URL:https://northstarrotary.com/event/outbound-applicants-receive-interview-results/
CATEGORIES:Board Members,Everyone!,Leadership Team,Outbounds
END:VEVENT
BEGIN:VEVENT
DTSTART;VALUE=DATE:20260124
DTEND;VALUE=DATE:20260125
DTSTAMP:20260422T174217
CREATED:20251028T152414Z
LAST-MODIFIED:20251028T152414Z
UID:3225-1769212800-1769299199@northstarrotary.com
SUMMARY:Inbound & Host Family Orientation (Jan. arrivals)
DESCRIPTION:For Inbounds that arrive in January (New Zealand\, Australia). \nTiming & Location: TBD
URL:https://northstarrotary.com/event/inbound-host-family-orientation-jan-arrivals/
CATEGORIES:Everyone!,Inbounds,Leadership Team
END:VEVENT
BEGIN:VEVENT
DTSTART;VALUE=DATE:20260124
DTEND;VALUE=DATE:20260125
DTSTAMP:20260422T174217
CREATED:20251028T152538Z
LAST-MODIFIED:20251028T152538Z
UID:3227-1769212800-1769299199@northstarrotary.com
SUMMARY:Short Term Interviews
DESCRIPTION:Interviews for summer 2026 exchange applicants \nTiming & location: TBD
URL:https://northstarrotary.com/event/short-term-interviews/
CATEGORIES:Board Members,Everyone!,Leadership Team,Outbounds
END:VEVENT
BEGIN:VEVENT
DTSTART;VALUE=DATE:20260131
DTEND;VALUE=DATE:20260201
DTSTAMP:20260422T174217
CREATED:20251028T152644Z
LAST-MODIFIED:20251028T152644Z
UID:3229-1769817600-1769903999@northstarrotary.com
SUMMARY:Winter Revelry
DESCRIPTION:Optional Event for Inbound Students\, RSVP will be sent via email \nHosted by Rice Lake Rotary Club \nLocation: Rice Lake\, WI \nTiming: TBD
URL:https://northstarrotary.com/event/winter-revelry/
CATEGORIES:Everyone!,Inbounds,Leadership Team
END:VEVENT
BEGIN:VEVENT
DTSTART;VALUE=DATE:20260215
DTEND;VALUE=DATE:20260216
DTSTAMP:20260422T174217
CREATED:20251028T152845Z
LAST-MODIFIED:20251028T152845Z
UID:3231-1771113600-1771199999@northstarrotary.com
SUMMARY:Financial Scholarship Application Deadline
DESCRIPTION:Mail to North Star Office.  Must be postmarked on or before Feb. 15
URL:https://northstarrotary.com/event/financial-scholarship-application-deadline/
CATEGORIES:Everyone!,Outbounds
END:VEVENT
BEGIN:VEVENT
DTSTART;TZID=America/Chicago:20260223T093000
DTEND;TZID=America/Chicago:20260223T113000
DTSTAMP:20260422T174217
CREATED:20251028T153121Z
LAST-MODIFIED:20251028T153121Z
UID:3235-1771839000-1771846200@northstarrotary.com
SUMMARY:Rotary Awareness Day
DESCRIPTION:Event for Inbound Students and Volunteers \nMinnesota State Capitol \nTime: TENTATIVE: 9:30-11:30 am (additional activities may be added)
URL:https://northstarrotary.com/event/rotary-awareness-day/
CATEGORIES:Board Members,Everyone!,Inbounds,Leadership Team
END:VEVENT
BEGIN:VEVENT
DTSTART;VALUE=DATE:20260228
DTEND;VALUE=DATE:20260301
DTSTAMP:20260422T174217
CREATED:20251028T153444Z
LAST-MODIFIED:20251028T153444Z
UID:3239-1772236800-1772323199@northstarrotary.com
SUMMARY:Short Term Interviews (additional)
DESCRIPTION:Additional Interviews will be done on this date. \nLocation & timing: TBD
URL:https://northstarrotary.com/event/short-term-interviews-additional/
CATEGORIES:Everyone!,Leadership Team,Outbounds
END:VEVENT
BEGIN:VEVENT
DTSTART;VALUE=DATE:20260228
DTEND;VALUE=DATE:20260301
DTSTAMP:20260422T174217
CREATED:20251028T154029Z
LAST-MODIFIED:20251028T154029Z
UID:3241-1772236800-1772323199@northstarrotary.com
SUMMARY:YEO\, Club Counselor\, & Host Family Training
DESCRIPTION:Happening during Outbound Orientation #2 \nLocation & timing: TBD
URL:https://northstarrotary.com/event/yeo-club-counselor-host-family-training/
CATEGORIES:Everyone!
END:VEVENT
BEGIN:VEVENT
DTSTART;VALUE=DATE:20260228
DTEND;VALUE=DATE:20260302
DTSTAMP:20260422T174217
CREATED:20251028T153347Z
LAST-MODIFIED:20251028T153347Z
UID:3237-1772236800-1772409599@northstarrotary.com
SUMMARY:Outbound Orientation #2 (Long Term)
DESCRIPTION:Inbounds & Outbound Applicants attend this overnight event! \nLocation & Timing: TBD
URL:https://northstarrotary.com/event/outbound-orientation-2-long-term/
CATEGORIES:Board Members,Everyone!,Inbounds,Leadership Team,Outbounds
END:VEVENT
BEGIN:VEVENT
DTSTART;VALUE=DATE:20260301
DTEND;VALUE=DATE:20260302
DTSTAMP:20260422T174217
CREATED:20251028T154114Z
LAST-MODIFIED:20251028T154114Z
UID:3243-1772323200-1772409599@northstarrotary.com
SUMMARY:Short Term Application Deadline
DESCRIPTION:Deadline for summer 2026 Short Term exchange applications
URL:https://northstarrotary.com/event/short-term-application-deadline/
CATEGORIES:Everyone!
END:VEVENT
BEGIN:VEVENT
DTSTART;VALUE=DATE:20260315
DTEND;VALUE=DATE:20260322
DTSTAMP:20260422T174217
CREATED:20251028T154320Z
LAST-MODIFIED:20251028T154320Z
UID:3247-1773532800-1774137599@northstarrotary.com
SUMMARY:Hawaii Trip
DESCRIPTION:Optional Trip for Inbound Students \nRegister with Belo USA – information share via email
URL:https://northstarrotary.com/event/hawaii-trip/
CATEGORIES:Everyone!,Inbounds
END:VEVENT
BEGIN:VEVENT
DTSTART;VALUE=DATE:20260411
DTEND;VALUE=DATE:20260412
DTSTAMP:20260422T174217
CREATED:20251028T155446Z
LAST-MODIFIED:20251028T155446Z
UID:3251-1775865600-1775951999@northstarrotary.com
SUMMARY:Outbound Orientation #3 (Long Term)
DESCRIPTION:Orientation and Graduation for Long Term \nLocation and timing: TBD
URL:https://northstarrotary.com/event/outbound-orientation-3-long-term/
CATEGORIES:Board Members,Everyone!,Leadership Team,Outbounds
END:VEVENT
BEGIN:VEVENT
DTSTART;VALUE=DATE:20260411
DTEND;VALUE=DATE:20260412
DTSTAMP:20260422T174217
CREATED:20251028T155520Z
LAST-MODIFIED:20251028T155520Z
UID:3253-1775865600-1775951999@northstarrotary.com
SUMMARY:Short Term Orientation
DESCRIPTION:Location and timing: TBD
URL:https://northstarrotary.com/event/short-term-orientation/
CATEGORIES:Everyone!,Leadership Team,Outbounds
END:VEVENT
BEGIN:VEVENT
DTSTART;VALUE=DATE:20260417
DTEND;VALUE=DATE:20260419
DTSTAMP:20260422T174217
CREATED:20251028T155723Z
LAST-MODIFIED:20251028T155723Z
UID:3257-1776384000-1776556799@northstarrotary.com
SUMMARY:District 5960 Conference
DESCRIPTION:Inbounds will attend on April 18 \nLocation: DoubleTree\, St. Paul East \nTime: TBD
URL:https://northstarrotary.com/event/district-5960-conference/
CATEGORIES:Board Members,Everyone!,Inbounds,Leadership Team
END:VEVENT
BEGIN:VEVENT
DTSTART;VALUE=DATE:20260424
DTEND;VALUE=DATE:20260429
DTSTAMP:20260422T174217
CREATED:20251028T155905Z
LAST-MODIFIED:20251028T155905Z
UID:3259-1776988800-1777420799@northstarrotary.com
SUMMARY:Camp RYLA
DESCRIPTION:Optional opportunity for Inbounds and Outbounds \nAdditional information and registration: https://campryla.org/
URL:https://northstarrotary.com/event/camp-ryla/
CATEGORIES:Everyone!,Inbounds,Outbounds
END:VEVENT
BEGIN:VEVENT
DTSTART;VALUE=DATE:20260509
DTEND;VALUE=DATE:20260511
DTSTAMP:20260422T174217
CREATED:20251028T160017Z
LAST-MODIFIED:20251028T160017Z
UID:3261-1778284800-1778457599@northstarrotary.com
SUMMARY:Eagle Center & Northfield Overnight
DESCRIPTION:Optional event for Inbound Students \nRSVP will be sent out via email
URL:https://northstarrotary.com/event/eagle-center-northfield-overnight/
CATEGORIES:Everyone!,Inbounds,Leadership Team
END:VEVENT
BEGIN:VEVENT
DTSTART;VALUE=DATE:20260613
DTEND;VALUE=DATE:20260614
DTSTAMP:20260422T174217
CREATED:20251028T160231Z
LAST-MODIFIED:20260422T150100Z
UID:3267-1781308800-1781395199@northstarrotary.com
SUMMARY:Farewell Event
DESCRIPTION:Event for Inbound Students \nLocation: Mall of America \nTiming: morning-afternoon
URL:https://northstarrotary.com/event/farewell-event/
CATEGORIES:Board Members,Everyone!,Inbounds,Leadership Team
END:VEVENT
BEGIN:VEVENT
DTSTART;VALUE=DATE:20260617
DTEND;VALUE=DATE:20260701
DTSTAMP:20260422T174217
CREATED:20251028T160335Z
LAST-MODIFIED:20251114T222603Z
UID:3269-1781654400-1782863999@northstarrotary.com
SUMMARY:East Coast Trip
DESCRIPTION:Optional trip for Inbound Students \nInformation was shared via email \n*UPDATED DATES to June 17-30\, 2026 (updated on 11/13/2025)* \nMust register with Belo USA
URL:https://northstarrotary.com/event/east-coast-trip/
CATEGORIES:Board Members,Everyone!,Inbounds,Leadership Team
END:VEVENT
BEGIN:VEVENT
DTSTART;VALUE=DATE:20260620
DTEND;VALUE=DATE:20260621
DTSTAMP:20260422T174217
CREATED:20251028T160449Z
LAST-MODIFIED:20251028T160449Z
UID:3271-1781913600-1781999999@northstarrotary.com
SUMMARY:Deadline for non-ECT Inbound to Depart
DESCRIPTION:Deadline for students that did not go on the East Coast Trip (ECT) to depart for their home country
URL:https://northstarrotary.com/event/deadline-for-non-ect-inbound-to-depart/
CATEGORIES:Everyone!,Inbounds,Leadership Team
END:VEVENT
BEGIN:VEVENT
DTSTART;VALUE=DATE:20260707
DTEND;VALUE=DATE:20260708
DTSTAMP:20260422T174217
CREATED:20251028T160545Z
LAST-MODIFIED:20251114T222002Z
UID:3273-1783382400-1783468799@northstarrotary.com
SUMMARY:Deadline for ECT Inbound to Depart
DESCRIPTION:Deadline for Inbound Student that attended the East Coast Trip to depart for their home country
URL:https://northstarrotary.com/event/deadline-for-ect-inbound-to-depart/
CATEGORIES:Everyone!,Inbounds,Leadership Team
END:VEVENT
BEGIN:VEVENT
DTSTART;VALUE=DATE:20260829
DTEND;VALUE=DATE:20260830
DTSTAMP:20260422T174217
CREATED:20251028T160738Z
LAST-MODIFIED:20260422T145946Z
UID:3277-1787961600-1788047999@northstarrotary.com
SUMMARY:Inbound Orientation
DESCRIPTION:Location: tbd
URL:https://northstarrotary.com/event/inbound-orientation/
CATEGORIES:Board Members,Everyone!,Inbounds,Leadership Team
END:VEVENT
END:VCALENDAR