BEGIN:VCALENDAR
VERSION:2.0
PRODID:-//North Star Rotary Youth Exchange - ECPv6.15.20//NONSGML v1.0//EN
CALSCALE:GREGORIAN
METHOD:PUBLISH
X-ORIGINAL-URL:https://northstarrotary.com
X-WR-CALDESC:Events for North Star Rotary Youth Exchange
REFRESH-INTERVAL;VALUE=DURATION:PT1H
X-Robots-Tag:noindex
X-PUBLISHED-TTL:PT1H
BEGIN:VTIMEZONE
TZID:America/Chicago
BEGIN:DAYLIGHT
TZOFFSETFROM:-0600
TZOFFSETTO:-0500
TZNAME:CDT
DTSTART:20240310T080000
END:DAYLIGHT
BEGIN:STANDARD
TZOFFSETFROM:-0500
TZOFFSETTO:-0600
TZNAME:CST
DTSTART:20241103T070000
END:STANDARD
BEGIN:DAYLIGHT
TZOFFSETFROM:-0600
TZOFFSETTO:-0500
TZNAME:CDT
DTSTART:20250309T080000
END:DAYLIGHT
BEGIN:STANDARD
TZOFFSETFROM:-0500
TZOFFSETTO:-0600
TZNAME:CST
DTSTART:20251102T070000
END:STANDARD
BEGIN:DAYLIGHT
TZOFFSETFROM:-0600
TZOFFSETTO:-0500
TZNAME:CDT
DTSTART:20260308T080000
END:DAYLIGHT
BEGIN:STANDARD
TZOFFSETFROM:-0500
TZOFFSETTO:-0600
TZNAME:CST
DTSTART:20261101T070000
END:STANDARD
END:VTIMEZONE
BEGIN:VEVENT
DTSTART;TZID=America/Chicago:20251102T190000
DTEND;TZID=America/Chicago:20251102T200000
DTSTAMP:20260419T133416
CREATED:20251015T222931Z
LAST-MODIFIED:20251015T222931Z
UID:3204-1762110000-1762113600@northstarrotary.com
SUMMARY:Virtual Informational Webinar!
DESCRIPTION:The North Star Rotex Team is hosting 2 Virtual Informational Webinars for potential applicants\, current applicants and their families.  (Rotex are alumni of this program\, past exchange students).  During these webinars\, Rotex will share their experiences abroad\, and provide a quick overview of the program\, application process\, and what makes this a truly life-changing opportunity to explore another culture and language.  CLICK HERE to RSVP and receive the zoom link
URL:https://northstarrotary.com/event/virtual-informational-webinar-2/
LOCATION:Zoom
CATEGORIES:Everyone!
END:VEVENT
END:VCALENDAR